BEGIN:VCALENDAR
VERSION:2.0
PRODID:Tennis-Abteilung TSV Wassermungenau
METHOD:PUBLISH
BEGIN:VEVENT
DTSTART:20260510T150000
DTEND:20260510T150000
SUMMARY:TeG Altmühlgrund - Midcourt U10
DTSTAMP:20260315T160700
UID:20260510T150000_MidcourtU10
LOCATION:
DESCRIPTION:Tennis-Abteilung TSV Wassermungenau\nSpiel der Midcourt U10
TRANSP:TRANSPARENT
END:VEVENT
BEGIN:VEVENT
DTSTART:20260517T150000
DTEND:20260517T150000
SUMMARY:Midcourt U10 - Weißenburger TC
DTSTAMP:20260315T160700
UID:20260517T150000_MidcourtU10
LOCATION:
DESCRIPTION:Tennis-Abteilung TSV Wassermungenau\nSpiel der Midcourt U10
TRANSP:TRANSPARENT
END:VEVENT
BEGIN:VEVENT
DTSTART:20260614T150000
DTEND:20260614T150000
SUMMARY:Midcourt U10 - TuS Feuchtwangen
DTSTAMP:20260315T160700
UID:20260614T150000_MidcourtU10
LOCATION:
DESCRIPTION:Tennis-Abteilung TSV Wassermungenau\nSpiel der Midcourt U10
TRANSP:TRANSPARENT
END:VEVENT
BEGIN:VEVENT
DTSTART:20260621T150000
DTEND:20260621T150000
SUMMARY:TV Hilpoltstein - Midcourt U10
DTSTAMP:20260315T160700
UID:20260621T150000_MidcourtU10
LOCATION:
DESCRIPTION:Tennis-Abteilung TSV Wassermungenau\nSpiel der Midcourt U10
TRANSP:TRANSPARENT
END:VEVENT
BEGIN:VEVENT
DTSTART:20260628T150000
DTEND:20260628T150000
SUMMARY:Midcourt U10 - TC RW Hilpoltstein
DTSTAMP:20260315T160700
UID:20260628T150000_MidcourtU10
LOCATION:
DESCRIPTION:Tennis-Abteilung TSV Wassermungenau\nSpiel der Midcourt U10
TRANSP:TRANSPARENT
END:VEVENT
BEGIN:VEVENT
DTSTART:20260712T150000
DTEND:20260712T150000
SUMMARY:TC GW Greding - Midcourt U10
DTSTAMP:20260315T160700
UID:20260712T150000_MidcourtU10
LOCATION:
DESCRIPTION:Tennis-Abteilung TSV Wassermungenau\nSpiel der Midcourt U10
TRANSP:TRANSPARENT
END:VEVENT
END:VCALENDAR
