BEGIN:VCALENDAR
VERSION:2.0
PRODID:Tennis-Abteilung TSV Wassermungenau
METHOD:PUBLISH
BEGIN:VEVENT
DTSTART:20260508T150000
DTEND:20260508T150000
SUMMARY:TC Dietenhofen - Knaben 15
DTSTAMP:20260315T161000
UID:20260508T150000_Knaben15
LOCATION:
DESCRIPTION:Tennis-Abteilung TSV Wassermungenau\nSpiel der Knaben 15
TRANSP:TRANSPARENT
END:VEVENT
BEGIN:VEVENT
DTSTART:20260515T150000
DTEND:20260515T150000
SUMMARY:Knaben 15 - TeG Altmühlgrund III
DTSTAMP:20260315T161000
UID:20260515T150000_Knaben15
LOCATION:
DESCRIPTION:Tennis-Abteilung TSV Wassermungenau\nSpiel der Knaben 15
TRANSP:TRANSPARENT
END:VEVENT
BEGIN:VEVENT
DTSTART:20260612T150000
DTEND:20260612T150000
SUMMARY:Knaben 15 - TC Roßtal
DTSTAMP:20260315T161000
UID:20260612T150000_Knaben15
LOCATION:
DESCRIPTION:Tennis-Abteilung TSV Wassermungenau\nSpiel der Knaben 15
TRANSP:TRANSPARENT
END:VEVENT
BEGIN:VEVENT
DTSTART:20260619T150000
DTEND:20260619T150000
SUMMARY:Knaben 15 - TSV Rohr II
DTSTAMP:20260315T161000
UID:20260619T150000_Knaben15
LOCATION:
DESCRIPTION:Tennis-Abteilung TSV Wassermungenau\nSpiel der Knaben 15
TRANSP:TRANSPARENT
END:VEVENT
BEGIN:VEVENT
DTSTART:20260626T150000
DTEND:20260626T150000
SUMMARY:1. FC Sachsen II - Knaben 15
DTSTAMP:20260315T161000
UID:20260626T150000_Knaben15
LOCATION:
DESCRIPTION:Tennis-Abteilung TSV Wassermungenau\nSpiel der Knaben 15
TRANSP:TRANSPARENT
END:VEVENT
END:VCALENDAR
