BEGIN:VCALENDAR
VERSION:2.0
PRODID:Tennis-Spielgemeinschaft DJK Abenberg / TSV Wassermungenau / Weißenburger TC
METHOD:PUBLISH
BEGIN:VEVENT
DTSTART:20260502T130000
DTEND:20260502T130000
SUMMARY:SV Stammham - Herren 30
DTSTAMP:20260413T132100
UID:20260502T130000_Herren30
LOCATION:
DESCRIPTION:Tennis-Spielgemeinschaft DJK Abenberg / TSV Wassermungenau / Weißenburger TC\nSpiel der Herren 30
TRANSP:TRANSPARENT
END:VEVENT
BEGIN:VEVENT
DTSTART:20260509T130000
DTEND:20260509T130000
SUMMARY:Herren 30 - TC Ingolstadt-Mailing
DTSTAMP:20260413T132100
UID:20260509T130000_Herren30
LOCATION:DJK Abenberg
DESCRIPTION:Tennis-Spielgemeinschaft DJK Abenberg / TSV Wassermungenau / Weißenburger TC\nSpiel der Herren 30
TRANSP:TRANSPARENT
END:VEVENT
BEGIN:VEVENT
DTSTART:20260516T140000
DTEND:20260516T140000
SUMMARY:TSV Rohr - Herren 30
DTSTAMP:20260413T132100
UID:20260516T140000_Herren30
LOCATION:
DESCRIPTION:Tennis-Spielgemeinschaft DJK Abenberg / TSV Wassermungenau / Weißenburger TC\nSpiel der Herren 30
TRANSP:TRANSPARENT
END:VEVENT
BEGIN:VEVENT
DTSTART:20260530T100000
DTEND:20260530T100000
SUMMARY:Herren 30 - SV Schwaig/Nürnberg II
DTSTAMP:20260413T132100
UID:20260530T100000_Herren30
LOCATION:TSV Wassermungenau
DESCRIPTION:Tennis-Spielgemeinschaft DJK Abenberg / TSV Wassermungenau / Weißenburger TC\nSpiel der Herren 30
TRANSP:TRANSPARENT
END:VEVENT
BEGIN:VEVENT
DTSTART:20260613T140000
DTEND:20260613T140000
SUMMARY:Herren 30 - SG Stadtpark Schwabach
DTSTAMP:20260413T132100
UID:20260613T140000_Herren30
LOCATION:TSV Wassermungenau
DESCRIPTION:Tennis-Spielgemeinschaft DJK Abenberg / TSV Wassermungenau / Weißenburger TC\nSpiel der Herren 30
TRANSP:TRANSPARENT
END:VEVENT
BEGIN:VEVENT
DTSTART:20260627T130000
DTEND:20260627T130000
SUMMARY:TSV Dürrwangen - Herren 30
DTSTAMP:20260413T132100
UID:20260627T130000_Herren30
LOCATION:
DESCRIPTION:Tennis-Spielgemeinschaft DJK Abenberg / TSV Wassermungenau / Weißenburger TC\nSpiel der Herren 30
TRANSP:TRANSPARENT
END:VEVENT
BEGIN:VEVENT
DTSTART:20260704T140000
DTEND:20260704T140000
SUMMARY:Herren 30 - SV Laufamholz Nürnberg
DTSTAMP:20260413T132100
UID:20260704T140000_Herren30
LOCATION:DJK Abenberg
DESCRIPTION:Tennis-Spielgemeinschaft DJK Abenberg / TSV Wassermungenau / Weißenburger TC\nSpiel der Herren 30
TRANSP:TRANSPARENT
END:VEVENT
END:VCALENDAR
