BEGIN:VCALENDAR
VERSION:2.0
PRODID:Tennis-Spielgemeinschaft TC Georgensgmünd / DJK Abenberg / TSV Wassermungenau
METHOD:PUBLISH
BEGIN:VEVENT
DTSTART:20260510T090000
DTEND:20260510T090000
SUMMARY:Weißenburger TC - Herren
DTSTAMP:20260413T131900
UID:20260510T090000_Herren
LOCATION:
DESCRIPTION:Tennis-Spielgemeinschaft TC Georgensgmünd / DJK Abenberg / TSV Wassermungenau\nSpiel der Herren
TRANSP:TRANSPARENT
END:VEVENT
BEGIN:VEVENT
DTSTART:20260607T090000
DTEND:20260607T090000
SUMMARY:Herren - TC Nennslingen
DTSTAMP:20260413T131900
UID:20260607T090000_Herren
LOCATION:DJK Abenberg
DESCRIPTION:Tennis-Spielgemeinschaft TC Georgensgmünd / DJK Abenberg / TSV Wassermungenau\nSpiel der Herren
TRANSP:TRANSPARENT
END:VEVENT
BEGIN:VEVENT
DTSTART:20260614T090000
DTEND:20260614T090000
SUMMARY:Herren - TSV Windsbach
DTSTAMP:20260413T131900
UID:20260614T090000_Herren
LOCATION:TC Georgensgmünd
DESCRIPTION:Tennis-Spielgemeinschaft TC Georgensgmünd / DJK Abenberg / TSV Wassermungenau\nSpiel der Herren
TRANSP:TRANSPARENT
END:VEVENT
BEGIN:VEVENT
DTSTART:20260621T090000
DTEND:20260621T090000
SUMMARY:TC Schambach - Herren
DTSTAMP:20260413T131900
UID:20260621T090000_Herren
LOCATION:
DESCRIPTION:Tennis-Spielgemeinschaft TC Georgensgmünd / DJK Abenberg / TSV Wassermungenau\nSpiel der Herren
TRANSP:TRANSPARENT
END:VEVENT
BEGIN:VEVENT
DTSTART:20260628T090000
DTEND:20260628T090000
SUMMARY:TV Hilpoltstein - Herren
DTSTAMP:20260413T131900
UID:20260628T090000_Herren
LOCATION:
DESCRIPTION:Tennis-Spielgemeinschaft TC Georgensgmünd / DJK Abenberg / TSV Wassermungenau\nSpiel der Herren
TRANSP:TRANSPARENT
END:VEVENT
BEGIN:VEVENT
DTSTART:20260712T090000
DTEND:20260712T090000
SUMMARY:1. FC Sachsen - Herren
DTSTAMP:20260413T131900
UID:20260712T090000_Herren
LOCATION:
DESCRIPTION:Tennis-Spielgemeinschaft TC Georgensgmünd / DJK Abenberg / TSV Wassermungenau\nSpiel der Herren
TRANSP:TRANSPARENT
END:VEVENT
BEGIN:VEVENT
DTSTART:20260719T090000
DTEND:20260719T090000
SUMMARY:Herren - SV Arberg
DTSTAMP:20260413T131900
UID:20260719T090000_Herren
LOCATION:TC Georgensgmünd
DESCRIPTION:Tennis-Spielgemeinschaft TC Georgensgmünd / DJK Abenberg / TSV Wassermungenau\nSpiel der Herren
TRANSP:TRANSPARENT
END:VEVENT
END:VCALENDAR
